BEGIN:VCALENDAR
VERSION:2.0
PRODID:-//Date iCal//NONSGML kigkonsult.se iCalcreator 2.20.2//
METHOD:PUBLISH
BEGIN:VTIMEZONE
TZID:America/Toronto
BEGIN:STANDARD
DTSTART:20251102T020000
TZOFFSETFROM:-0400
TZOFFSETTO:-0500
TZNAME:EST
END:STANDARD
BEGIN:DAYLIGHT
DTSTART:20260308T020000
TZOFFSETFROM:-0500
TZOFFSETTO:-0400
TZNAME:EDT
END:DAYLIGHT
END:VTIMEZONE
BEGIN:VEVENT
UID:calendar.2645.events_uoft_date.0@www.anthropology.utoronto.ca
CREATED:20251112T202440Z
DESCRIPTION:\nWhen and Where: \nFriday, November 14, 2025 3:00 pm to 5:00
  pm \n AP246 Boardroom \n\nDescription: \nDDC Fall 2025 Anthropology Gradu
 ate Student Town HallFriday, November 14th - 3pm-5p6 and on zoom (pw = AP
 246) Please join us for a meeting to share info and feedback about your ex
 periences in the program. And please consider sharing input before the mee
 ting through this anonymous survey. Hosted by Ted Sammons of the U of T De
 partment of Anthropology's Diversity and Decolonization Committee (DDC). A
 ll current graduate students welcome. \n\nContact Information: \n Ted Samm
 ons ted.sammons@utoronto.ca \n\nCategories \n Diversity and Decolonization
  Committee \n\nAudiences \n Graduate Students
DTSTART;TZID=America/Toronto:20251114T150000
DTEND;TZID=America/Toronto:20251114T170000
LAST-MODIFIED:20251112T202440Z
SUMMARY:DDC Fall 2025 Anthropology Graduate Student Town Hall
URL;TYPE=URI:https://www.anthropology.utoronto.ca/events/ddc-fall-2025-anth
 ropology-graduate-student-town-hall
END:VEVENT
END:VCALENDAR
